BEGIN:VCALENDAR
VERSION:2.0
PRODID:-//Na stejné vlně - ECPv6.8.2.1//NONSGML v1.0//EN
CALSCALE:GREGORIAN
METHOD:PUBLISH
X-WR-CALNAME:Na stejné vlně
X-ORIGINAL-URL:https://nastejnevlne.cz
X-WR-CALDESC:Akce na Na stejné vlně
REFRESH-INTERVAL;VALUE=DURATION:PT1H
X-Robots-Tag:noindex
X-PUBLISHED-TTL:PT1H
BEGIN:VTIMEZONE
TZID:Europe/Prague
BEGIN:DAYLIGHT
TZOFFSETFROM:+0100
TZOFFSETTO:+0200
TZNAME:CEST
DTSTART:20250330T010000
END:DAYLIGHT
BEGIN:STANDARD
TZOFFSETFROM:+0200
TZOFFSETTO:+0100
TZNAME:CET
DTSTART:20251026T010000
END:STANDARD
END:VTIMEZONE
BEGIN:VEVENT
DTSTART;TZID=Europe/Prague:20250408T090000
DTEND;TZID=Europe/Prague:20250408T140000
DTSTAMP:20260425T151054
CREATED:20250131T083512Z
LAST-MODIFIED:20250324T092452Z
UID:2790-1744102800-1744120800@nastejnevlne.cz
SUMMARY:KONFERENCE: Duševní zdraví v rodinách ve Zlínském kraji
DESCRIPTION:Místo konání: Žlutá aula UTB\, Budova U18\, Štefánikova 5670\, Zlín 760 01 \n\n\n\nPřihlašovací formulář ZDE. Přihlašování na akci již není možné. KAPACITA JE NAPLNĚNA. \n\n\n\n„Zlínský kraj se stejně jako celá Česká republika potýká s vyšším výskytem duševních obtíží u dětí na straně jedné a zvyšující se nedostupností odborné péče na straně druhé. Cílem probíhajících systémových změn je\, aby se dětem dostávala potřebná pomoc včas. Nežli se však tyto změny promítnou do stávající sítě podpory\, je třeba zefektivňovat spolupráci mezi odborníky\, jejich vzájemnou provázanost a důvěru. Snahou Poradenského a krizového centra je tomuto procesu v zájmu dětí a jejich blízkých co nejvíce přispět. Mám velkou radost\, že se naše snaha potkává se zájmem odborníků\, a to jak z řad zdravotníků\, pedagogů\, volnočasových pracovníků\, pracovníků samospráv\, tak i pracovníků v sociálních službách a dalších. Věřím\, že konference přinese celou řadu příkladů osvědčených metod a postupů\, podněty pro zkvalitnění stávající praxe i spoustu myšlenek a výzev do budoucích dní.“ \n\n\n\nMgr. Marek Mikláš\, MBA\, ředitel Poradenského a krizového centra\, p.o. \n\n\n\nPodrobný PROGRAM najdete ZDE. \n\n\n\nAkce je pro přihlášené účastníky zdarma.  \n\n\n\nOficiální POZVÁNKA ke stažení ZDE. \n\n\n\nTěšíme se na Vaši účast.
URL:https://nastejnevlne.cz/event/konference-dusevni-zdravi-v-rodinach-ve-zlinskem-kraji/
CATEGORIES:Akce 2025
END:VEVENT
BEGIN:VEVENT
DTSTART;TZID=Europe/Prague:20250313T140000
DTEND;TZID=Europe/Prague:20250313T160000
DTSTAMP:20260425T151054
CREATED:20241126T080050Z
LAST-MODIFIED:20250306T122818Z
UID:2744-1741874400-1741881600@nastejnevlne.cz
SUMMARY:Kazuistický seminář Uherské Hradiště 2025
DESCRIPTION:Místo konání: HUB 123\, Mariánské náměstí 123\, Uherské Hradiště 68601 \n\n\n\nV případě Vašeho zájmu se prosím zaregistrujte ZDE. KAPACITA JE NAPLNĚNA\, PŘIHLAŠOVÁNÍ ZASTAVENO. PODÍVEJTE SE NA DALŠÍ NAŠE AKCE. \n\n\n\nNa kazuistickém semináři budeme řešit konkrétní\, anonymizovaný případ dítěte s duševními obtížemi a jeho blízkých osob s odborníky napříč resorty. \n\n\n\nKompetence zúčastněných odborníků se často překrývají\, jsou vnímány různým způsobem a při zapojení více subjektů se stává\, že dítě\, rodič nebo i odborník si není jistý\, na koho se má obrátit.  V rámci našeho semináře si projdeme konkrétní kazuistiku\, na které si ukážeme\, kde začínají a končí kompetence a práva zapojených odborníků. \n\n\n\nModelace příběhu bude doplněna přítomností Mladé dospělé\, která má osobní zkušenosti v řešeném tématu. \n\n\n\nVYSTUPUJÍCÍ:  \n\n\n\n\nEliška Petrusová (Mladá dospělá)\n\n\n\nPaedDr. Hana Pašteková Rupertová (zástupce za oblast zdravotnictví)\n\n\n\nMgr. Adéla Gregor (zástupce sociálních služeb)\n\n\n\nMgr. Jarmila Hasoňová (zástupce sociálních služeb)\n\n\n\nplk. Mgr. Jan Miškeřík (zástupce Policie)\n\n\n\nMgr. Lenka Hrabalíková (zástupce OSPOD)\n\n\n\nMgr. Jana Rozumová (zástupce za oblast školství)\n\n\n\n\nKazuistický seminář bude veden facilitátorem.
URL:https://nastejnevlne.cz/event/kazuisticky-seminar-uherske-hradiste-2025/
CATEGORIES:Akce 2025
END:VEVENT
END:VCALENDAR