BEGIN:VCALENDAR
VERSION:2.0
PRODID:-//Na stejné vlně - ECPv6.8.2.1//NONSGML v1.0//EN
CALSCALE:GREGORIAN
METHOD:PUBLISH
X-ORIGINAL-URL:https://nastejnevlne.cz
X-WR-CALDESC:Akce na Na stejné vlně
REFRESH-INTERVAL;VALUE=DURATION:PT1H
X-Robots-Tag:noindex
X-PUBLISHED-TTL:PT1H
BEGIN:VTIMEZONE
TZID:Europe/Prague
BEGIN:DAYLIGHT
TZOFFSETFROM:+0100
TZOFFSETTO:+0200
TZNAME:CEST
DTSTART:20260329T010000
END:DAYLIGHT
BEGIN:STANDARD
TZOFFSETFROM:+0200
TZOFFSETTO:+0100
TZNAME:CET
DTSTART:20261025T010000
END:STANDARD
END:VTIMEZONE
BEGIN:VEVENT
DTSTART;TZID=Europe/Prague:20260408T133000
DTEND;TZID=Europe/Prague:20260408T160000
DTSTAMP:20260424T164628
CREATED:20260312T082826Z
LAST-MODIFIED:20260324T081614Z
UID:3123-1775655000-1775664000@nastejnevlne.cz
SUMMARY:WEBINÁŘ: Kratom ve školním prostředí: prevence\, realita a rizika
DESCRIPTION:AKCE JE URČENA PRO PEDAGOGICKÉ PRACOVNÍKY 2. STUPNĚ ZŠ A SŠ \n\n\n\nPřihlašovací formulář ZDE. \n\n\n\nPROGRAM: • dobrá praxe z pohledu školní metodičky prevence• rizika a dopady užívání z pohledu adiktoložky• kdy a kde vyhledat pomoc \n\n\n\nVYSTUPUJÍCÍ: • Mgr. Marika Michajlovičová\, adiktoložka\, terapeutka a garantka Ambulance klinické psychologie a adiktologie Kroměříž• Mgr. Blanka Šimrová\, metodička prevence pro vyšší gymnázium\, Gymnázium Zlín Lesní čtvrť \n\n\n\nDen před zahájením webináře obdržíte e-mail s odkazem\, prostřednictvím kterého se bude možné připojit na webinář. \n\n\n\n\n\n\n\nAkce je pro přihlášené účastníky zdarma.  \n\n\n\nTěšíme se na Vaši účast. \n\n\n\nAkce je součástí aktivit projektu „Implementace dlouhodobého záměru Zlínského kraje“\, reg. č. CZ.02.02.XX/00/23_018/0012212.
URL:https://nastejnevlne.cz/event/webinar-kratom-ve-skolnim-prostredi-prevence-realita-a-rizika/
CATEGORIES:Akce 2025
END:VEVENT
END:VCALENDAR