BEGIN:VCALENDAR
VERSION:2.0
PRODID:-//Na stejné vlně - ECPv6.8.2.1//NONSGML v1.0//EN
CALSCALE:GREGORIAN
METHOD:PUBLISH
X-ORIGINAL-URL:https://nastejnevlne.cz
X-WR-CALDESC:Akce na Na stejné vlně
REFRESH-INTERVAL;VALUE=DURATION:PT1H
X-Robots-Tag:noindex
X-PUBLISHED-TTL:PT1H
BEGIN:VTIMEZONE
TZID:Europe/Prague
BEGIN:DAYLIGHT
TZOFFSETFROM:+0100
TZOFFSETTO:+0200
TZNAME:CEST
DTSTART:20250330T010000
END:DAYLIGHT
BEGIN:STANDARD
TZOFFSETFROM:+0200
TZOFFSETTO:+0100
TZNAME:CET
DTSTART:20251026T010000
END:STANDARD
END:VTIMEZONE
BEGIN:VEVENT
DTSTART;TZID=Europe/Prague:20251119T130000
DTEND;TZID=Europe/Prague:20251119T153000
DTSTAMP:20260425T014423
CREATED:20251107T093541Z
LAST-MODIFIED:20251107T094955Z
UID:3008-1763557200-1763566200@nastejnevlne.cz
SUMMARY:Role pedagoga v kontextu dnešní doby
DESCRIPTION:WEBINÁŘonline přenos \n\n\n\nZačátek přímého přenosu: 13.00 hodDélka trvání přímého přenosu: 150 minutModerátor: Mgr. Marek Mikláš\, MBA \n\n\n\nProgram:• jak nastavit hranice v pedagogické praxi• jak na rodiče\, aby vás „poslouchali“• jak se mít dobře v roli učitele \n\n\n\nPřihlásit se na akci je možné přímo ZDE. \n\n\n\n \n\n\n\nDen před zahájením webináře obdržíte e-mail s odkazem\, prostřednictvím kterého se bude možné připojit na webinář. \n\n\n\nAkce je součástí projektu „Implementace dlouhodobého záměru Zlínského kraje“\, reg. č. CZ.02.02.XX/00/23_018/0012212.
URL:https://nastejnevlne.cz/event/role-pedagoga-v-kontextu-dnesni-doby/
CATEGORIES:Akce 2025
END:VEVENT
END:VCALENDAR