BEGIN:VCALENDAR
VERSION:2.0
PRODID:-//Na stejné vlně - ECPv6.8.2.1//NONSGML v1.0//EN
CALSCALE:GREGORIAN
METHOD:PUBLISH
X-WR-CALNAME:Na stejné vlně
X-ORIGINAL-URL:https://nastejnevlne.cz
X-WR-CALDESC:Akce na Na stejné vlně
REFRESH-INTERVAL;VALUE=DURATION:PT1H
X-Robots-Tag:noindex
X-PUBLISHED-TTL:PT1H
BEGIN:VTIMEZONE
TZID:Europe/Prague
BEGIN:DAYLIGHT
TZOFFSETFROM:+0100
TZOFFSETTO:+0200
TZNAME:CEST
DTSTART:20260329T010000
END:DAYLIGHT
BEGIN:STANDARD
TZOFFSETFROM:+0200
TZOFFSETTO:+0100
TZNAME:CET
DTSTART:20261025T010000
END:STANDARD
END:VTIMEZONE
BEGIN:VEVENT
DTSTART;TZID=Europe/Prague:20260212T083000
DTEND;TZID=Europe/Prague:20260212T160000
DTSTAMP:20260424T180443
CREATED:20251215T083403Z
LAST-MODIFIED:20260216T071551Z
UID:3034-1770885000-1770912000@nastejnevlne.cz
SUMMARY:KONFERENCE: PREVENCE PŘEDČASNÝCH ODCHODŮ ZE VZDĚLÁVÁNÍ
DESCRIPTION:Místo konání: Budova U18\, Štefánikova 5670\, Zlín 760 01 \n\n\n\nPřihlašovací formulář ZDE. \n\n\n\nKAPACITA NAPLNĚNA\, PŘIHLAŠOVÁNÍ NA KONFERENCI UKONČENO.  \n\n\n\nKonference je určena pro pedagogické a nepedagogické pracovníky 2. stupně ZŠ\, SŠ\, vedení škol a školských zařízení a zřizovatele\, pracovníky školských poradenských zařízení\, pracovníky veřejné správy a subjektů zřízených veřejnou správou a ostatní aktéry v oblasti vzdělávání\, kteří se ve své praxi podílejí na podpoře dětí a žáků\, prevenci školního neúspěchu a předčasných odchodů ze vzdělávání. \n\n\n\nAkce je pro přihlášené účastníky zdarma.  \n\n\n\n\n\n\n\n\n\n\n\n\n\nPodrobný PROGRAM najdete ZDE. \n\n\n\n \n\n\n\nOficiální POZVÁNKA ke stažení ZDE. \n\n\n\n \n\n\n\nKonference Prevence předčasných odchodů ze vzdělávání představí školám a dalším aktérům přehled systémové podpory v oblasti prevence školního neúspěchu. Cílem setkání je seznámit účastníky s možnostmi využití služeb sociální intervence\, preventivních programů a odborné podpory zaměřené na práci s žáky ohroženými školním neúspěchem a předčasným odchodem ze vzdělávání. Zvláštní pozornost bude věnována podpoře wellbeingu ve školách\, mezioborové spolupráci a propojení vzdělávací\, sociální a zdravotní oblasti. Konference vytvoří prostor pro sdílení zkušeností\, navázání spolupráce a představení konkrétních forem podpory dostupných školám v rámci projektu IDZ Zlínského kraje. \n\n\n\n \n\n\n\nTěšíme se na Vaši účast.
URL:https://nastejnevlne.cz/event/konference-prevence-predcasnych-odchodu-ze-vzdelavani/
CATEGORIES:Akce 2025
END:VEVENT
END:VCALENDAR