BEGIN:VCALENDAR
VERSION:2.0
PRODID:-//Na stejné vlně - ECPv6.8.2.1//NONSGML v1.0//EN
CALSCALE:GREGORIAN
METHOD:PUBLISH
X-ORIGINAL-URL:https://nastejnevlne.cz
X-WR-CALDESC:Akce na Na stejné vlně
REFRESH-INTERVAL;VALUE=DURATION:PT1H
X-Robots-Tag:noindex
X-PUBLISHED-TTL:PT1H
BEGIN:VTIMEZONE
TZID:Europe/Prague
BEGIN:DAYLIGHT
TZOFFSETFROM:+0100
TZOFFSETTO:+0200
TZNAME:CEST
DTSTART:20250330T010000
END:DAYLIGHT
BEGIN:STANDARD
TZOFFSETFROM:+0200
TZOFFSETTO:+0100
TZNAME:CET
DTSTART:20251026T010000
END:STANDARD
END:VTIMEZONE
BEGIN:VEVENT
DTSTART;TZID=Europe/Prague:20251213T170000
DTEND;TZID=Europe/Prague:20251213T190000
DTSTAMP:20260424T205800
CREATED:20250915T115250Z
LAST-MODIFIED:20250915T115251Z
UID:2963-1765645200-1765652400@nastejnevlne.cz
SUMMARY:Benefiční koncert pro Poradenské a krizové centrum
DESCRIPTION:Místo konání: Kongresové centrum Zlín\, náměstí T. G. Masaryka 5556\, Zlín \n\n\n\nNechte se unést do světa hudby a vánoční nálady na Benefičním koncertu pro Poradenské a krizové centrum v sále Kongresového centra Zlín.Na adventním koncertu zazní slavné vánoční koledy\, populární písně české i světové i melodie z filmů s vánočním nádechem – v podání 90členného Dívčího pěveckého sboru SPgŠ Kroměříž pod vedením sbormistra Jiřího Jablunky. Speciálním hostem večera bude zpěvák a kytarista Thom Artway\, který se sborem uvede aranže svých písní. Zahájení večera obstará cimbálová muzika od 16:00 ve foyer.Přijďte si odpočinout\, načerpat sváteční atmosféru a zároveň podpořit dobrou věc.Výtěžek koncertu podpoří činnost Poradenského a krizového centra\, které pomáhá lidem v obtížných životních situacích po celém Zlínském kraji. Dopřejte si adventní zážitek\, který hřeje a pomáhá. Těšíme se na vás!Více informací na www.pkcentrum.cz \n\n\n\nKoncert se koná pod záštitou statutární náměstkyně hejtmana Zlínského kraje Mgr. Elišky Olšákové. \n\n\n\nVstupenky můžete zakoupit online přímo na ticketportal.cz 
URL:https://nastejnevlne.cz/event/beneficni-koncert-pro-poradenske-a-krizove-centrum/
CATEGORIES:Akce 2025
END:VEVENT
END:VCALENDAR